BEGIN:VCALENDAR
VERSION:2.0
PRODID:Events Booking
BEGIN:VEVENT
UID:69e8aefc53c5f
SUMMARY:Homeopathie Congres 2026 - dag 1
DESCRIPTION:Hier een korte beschrijving van deze dag
LOCATION:Amersfoortsestraat 20\, Soesterberg\, 3769AS Utrecht\, The Netherl
 ands
DTSTART:20260904T093000Z
DTEND:20260904T170000Z
DTSTAMP:20260207T114444Z
ORGANIZER;CN=Homeopathie Stichting:MAILTO:info@homeopathiestichting.nl
GEO:52.123845;5.301203
X-APPLE-STRUCTURED-LOCATION;VALUE=URI;X-ADDRESS=Amersfoortsestraat 20\, Soe
 sterberg\, 3769AS Utrecht\, The Netherlands;X-APPLE-RADIUS=72;X-TITLE=Conf
 erentiehotel Kontakt der Kontinenten:52.123845;5.301203
END:VEVENT
END:VCALENDAR